BEGIN:VCALENDAR
VERSION:2.0
PRODID:-//District Fray - Making Fun Possible //NONSGML Events //EN
CALSCALE:GREGORIAN
X-WR-CALNAME:District Fray - Making Fun Possible
BEGIN:VEVENT
CREATED:20260424T145709Z
UID:305314
DTEND;VALUE=DATE:20260627T100000Z
DTSTART;VALUE=DATE:20260627T100000Z
DTSTAMP:20260424T175949Z
LOCATION:
DESCRIPTION:
SUMMARY:Red Bull Spin Off DC
ORGANIZER:
URL;VALUE=URI:https://districtfray.com/event/red-bull-spin-off-dc/
TRANSP:OPAQUE
BEGIN:VALARM
ACTION:DISPLAY
TRIGGER;VALUE=DATE-TIME:20260627T100000Z
DESCRIPTION:Reminder for Red Bull Spin Off DC
END:VALARM
END:VEVENT
END:VCALENDAR