BEGIN:VCALENDAR
VERSION:2.0
PRODID:-//District Fray - Making Fun Possible //NONSGML Events //EN
CALSCALE:GREGORIAN
X-WR-CALNAME:District Fray - Making Fun Possible
BEGIN:VEVENT
CREATED:20260424T145437Z
UID:305312
DTEND;VALUE=DATE:20261009T173000Z
DTSTART;VALUE=DATE:20261009T173000Z
DTSTAMP:20260424T181926Z
LOCATION:
DESCRIPTION:
SUMMARY:Drive-In Movies at Union Market: The Adams Family
ORGANIZER:
URL;VALUE=URI:https://districtfray.com/event/drive-in-movies-at-union-market-the-adams-family/
TRANSP:OPAQUE
BEGIN:VALARM
ACTION:DISPLAY
TRIGGER;VALUE=DATE-TIME:20261009T173000Z
DESCRIPTION:Reminder for Drive-In Movies at Union Market: The Adams Family
END:VALARM
END:VEVENT
END:VCALENDAR