BEGIN:VCALENDAR
VERSION:2.0
PRODID:-//District Fray - Making Fun Possible //NONSGML Events //EN
CALSCALE:GREGORIAN
X-WR-CALNAME:District Fray - Making Fun Possible
BEGIN:VEVENT
CREATED:20260424T145348Z
UID:305310
DTEND;VALUE=DATE:20260904T183000Z
DTSTART;VALUE=DATE:20260904T183000Z
DTSTAMP:20260424T181716Z
LOCATION:
DESCRIPTION:
SUMMARY:Drive-In Movies at Union Market: Mean Girls
ORGANIZER:
URL;VALUE=URI:https://districtfray.com/event/drive-in-movies-at-union-market-mean-girls/
TRANSP:OPAQUE
BEGIN:VALARM
ACTION:DISPLAY
TRIGGER;VALUE=DATE-TIME:20260904T183000Z
DESCRIPTION:Reminder for Drive-In Movies at Union Market: Mean Girls
END:VALARM
END:VEVENT
END:VCALENDAR