BEGIN:VCALENDAR
VERSION:2.0
PRODID:-//District Fray - Making Fun Possible //NONSGML Events //EN
CALSCALE:GREGORIAN
X-WR-CALNAME:District Fray - Making Fun Possible
BEGIN:VEVENT
CREATED:20260424T145256Z
UID:305308
DTEND;VALUE=DATE:20260814T193000Z
DTSTART;VALUE=DATE:20260814T193000Z
DTSTAMP:20260424T180445Z
LOCATION:
DESCRIPTION:
SUMMARY:Drive-In Movies at Union Market: F1-The Movie
ORGANIZER:
URL;VALUE=URI:https://districtfray.com/event/drive-in-movies-at-union-market-f1-the-movie/
TRANSP:OPAQUE
BEGIN:VALARM
ACTION:DISPLAY
TRIGGER;VALUE=DATE-TIME:20260814T193000Z
DESCRIPTION:Reminder for Drive-In Movies at Union Market: F1-The Movie
END:VALARM
END:VEVENT
END:VCALENDAR