BEGIN:VCALENDAR
VERSION:2.0
PRODID:-//District Fray - Making Fun Possible //NONSGML Events //EN
CALSCALE:GREGORIAN
X-WR-CALNAME:District Fray - Making Fun Possible
BEGIN:VEVENT
CREATED:20260424T144925Z
UID:305299
DTEND;VALUE=DATE:20260508T193000Z
DTSTART;VALUE=DATE:20260508T193000Z
DTSTAMP:20260424T181706Z
LOCATION:
DESCRIPTION:
SUMMARY:Drive-In Movies at Union Market: Mulan
ORGANIZER:
URL;VALUE=URI:https://districtfray.com/event/drive-in-movies-at-union-market/
TRANSP:OPAQUE
BEGIN:VALARM
ACTION:DISPLAY
TRIGGER;VALUE=DATE-TIME:20260508T193000Z
DESCRIPTION:Reminder for Drive-In Movies at Union Market: Mulan
END:VALARM
END:VEVENT
END:VCALENDAR