BEGIN:VCALENDAR
VERSION:2.0
PRODID:-//District Fray - Making Fun Possible //NONSGML Events //EN
CALSCALE:GREGORIAN
X-WR-CALNAME:District Fray - Making Fun Possible
BEGIN:VEVENT
CREATED:20260424T144533Z
UID:305296
DTEND;VALUE=DATE:20260502T140000Z
DTSTART;VALUE=DATE:20260502T140000Z
DTSTAMP:20260424T181059Z
LOCATION:
DESCRIPTION:
SUMMARY:Margaritas That Pay You Back: Cinco de Mayo at Elegancia
ORGANIZER:
URL;VALUE=URI:https://districtfray.com/event/margaritas-that-pay-you-back-cinco-de-mayo-at-elegancia/
TRANSP:OPAQUE
BEGIN:VALARM
ACTION:DISPLAY
TRIGGER;VALUE=DATE-TIME:20260502T140000Z
DESCRIPTION:Reminder for Margaritas That Pay You Back: Cinco de Mayo at Elegancia
END:VALARM
END:VEVENT
END:VCALENDAR