BEGIN:VCALENDAR
VERSION:2.0
PRODID:-//District Fray - Making Fun Possible //NONSGML Events //EN
CALSCALE:GREGORIAN
X-WR-CALNAME:District Fray - Making Fun Possible
BEGIN:VEVENT
CREATED:20260424T144333Z
UID:305293
DTEND;VALUE=DATE:20260505T163000Z
DTSTART;VALUE=DATE:20260505T163000Z
DTSTAMP:20260424T181636Z
LOCATION:
DESCRIPTION:
SUMMARY:Celebrate Cinco de Mayo at Hi/Fi Tex-Mex BBQ – Del Ray
ORGANIZER:
URL;VALUE=URI:https://districtfray.com/event/celebrate-cinco-de-mayo-at-hi-fi-tex-mex-bbq-del-ray/
TRANSP:OPAQUE
BEGIN:VALARM
ACTION:DISPLAY
TRIGGER;VALUE=DATE-TIME:20260505T163000Z
DESCRIPTION:Reminder for Celebrate Cinco de Mayo at Hi/Fi Tex-Mex BBQ – Del Ray
END:VALARM
END:VEVENT
END:VCALENDAR