BEGIN:VCALENDAR
VERSION:2.0
PRODID:-//District Fray - Making Fun Possible //NONSGML Events //EN
CALSCALE:GREGORIAN
X-WR-CALNAME:District Fray - Making Fun Possible
BEGIN:VEVENT
CREATED:20260424T143935Z
UID:305290
DTEND;VALUE=DATE:20260505T000000Z
DTSTART;VALUE=DATE:20260505T000000Z
DTSTAMP:20260424T180843Z
LOCATION:
DESCRIPTION:
SUMMARY:Turn Up the Flavor: Cinco De Mayo at the Roost with Margaritas, Tacos &amp; To-Go Festivities
ORGANIZER:
URL;VALUE=URI:https://districtfray.com/event/turn-up-the-flavor-cinco-de-mayo-at-the-roost-with-margaritas-tacos-to-go-festivities/
TRANSP:OPAQUE
BEGIN:VALARM
ACTION:DISPLAY
TRIGGER;VALUE=DATE-TIME:20260505T000000Z
DESCRIPTION:Reminder for Turn Up the Flavor: Cinco De Mayo at the Roost with Margaritas\, Tacos &amp; To-Go Festivities
END:VALARM
END:VEVENT
END:VCALENDAR