BEGIN:VCALENDAR
VERSION:2.0
PRODID:-//District Fray - Making Fun Possible //NONSGML Events //EN
CALSCALE:GREGORIAN
X-WR-CALNAME:District Fray - Making Fun Possible
BEGIN:VEVENT
CREATED:20260424T143700Z
UID:305287
DTEND;VALUE=DATE:20260502T133000Z
DTSTART;VALUE=DATE:20260502T133000Z
DTSTAMP:20260424T180235Z
LOCATION:
DESCRIPTION:
SUMMARY:Cinco de Mayo Comes Alive at Apapacho: Margaritas, Mariachi &amp; Mexico City Energy
ORGANIZER:
URL;VALUE=URI:https://districtfray.com/event/cinco-de-mayo-comes-alive-at-apapacho-margaritas-mariachi-mexico-city-energy/
TRANSP:OPAQUE
BEGIN:VALARM
ACTION:DISPLAY
TRIGGER;VALUE=DATE-TIME:20260502T133000Z
DESCRIPTION:Reminder for Cinco de Mayo Comes Alive at Apapacho: Margaritas\, Mariachi &amp; Mexico City Energy
END:VALARM
END:VEVENT
END:VCALENDAR