BEGIN:VCALENDAR
VERSION:2.0
PRODID:-//District Fray - Making Fun Possible //NONSGML Events //EN
CALSCALE:GREGORIAN
X-WR-CALNAME:District Fray - Making Fun Possible
BEGIN:VEVENT
CREATED:20260423T223554Z
UID:305284
DTEND;VALUE=DATE:20260625T180000Z
DTSTART;VALUE=DATE:20260625T180000Z
DTSTAMP:20260424T225052Z
LOCATION:
DESCRIPTION:
SUMMARY:Summer Harvest Dinner on the Farm
ORGANIZER:
URL;VALUE=URI:https://districtfray.com/event/summer-harvest-dinner-on-the-farm/
TRANSP:OPAQUE
BEGIN:VALARM
ACTION:DISPLAY
TRIGGER;VALUE=DATE-TIME:20260625T180000Z
DESCRIPTION:Reminder for Summer Harvest Dinner on the Farm
END:VALARM
END:VEVENT
END:VCALENDAR