BEGIN:VCALENDAR
VERSION:2.0
PRODID:-//District Fray - Making Fun Possible //NONSGML Events //EN
CALSCALE:GREGORIAN
X-WR-CALNAME:District Fray - Making Fun Possible
BEGIN:VEVENT
CREATED:20260423T223004Z
UID:305281
DTEND;VALUE=DATE:20260507T182800Z
DTSTART;VALUE=DATE:20260507T182800Z
DTSTAMP:20260425T002751Z
LOCATION:
DESCRIPTION:
SUMMARY:Spring Garden Party
ORGANIZER:
URL;VALUE=URI:https://districtfray.com/event/spring-garden-party/
TRANSP:OPAQUE
BEGIN:VALARM
ACTION:DISPLAY
TRIGGER;VALUE=DATE-TIME:20260507T182800Z
DESCRIPTION:Reminder for Spring Garden Party
END:VALARM
END:VEVENT
END:VCALENDAR