BEGIN:VCALENDAR
VERSION:2.0
PRODID:-//District Fray - Making Fun Possible //NONSGML Events //EN
CALSCALE:GREGORIAN
X-WR-CALNAME:District Fray - Making Fun Possible
BEGIN:VEVENT
CREATED:20260423T164806Z
UID:305273
DTEND;VALUE=DATE:20260717T180000Z
DTSTART;VALUE=DATE:20260717T180000Z
DTSTAMP:20260423T204754Z
LOCATION:
DESCRIPTION:
SUMMARY:Fridays at Fort Totten FREE Concert Series 2026
ORGANIZER:
URL;VALUE=URI:https://districtfray.com/event/fridays-at-fort-totten-free-concert-series-2026-7/
TRANSP:OPAQUE
BEGIN:VALARM
ACTION:DISPLAY
TRIGGER;VALUE=DATE-TIME:20260717T180000Z
DESCRIPTION:Reminder for Fridays at Fort Totten FREE Concert Series 2026
END:VALARM
END:VEVENT
END:VCALENDAR