BEGIN:VCALENDAR
VERSION:2.0
PRODID:-//District Fray - Making Fun Possible //NONSGML Events //EN
CALSCALE:GREGORIAN
X-WR-CALNAME:District Fray - Making Fun Possible
BEGIN:VEVENT
CREATED:20260421T135711Z
UID:305255
DTEND;VALUE=DATE:20260526T193000Z
DTSTART;VALUE=DATE:20260526T193000Z
DTSTAMP:20260421T215423Z
LOCATION:
DESCRIPTION:
SUMMARY:Charlie Puth: Whatever’s Clever! World Tour
ORGANIZER:
URL;VALUE=URI:https://districtfray.com/event/charlie-puth-whatevers-clever-world-tour/
TRANSP:OPAQUE
BEGIN:VALARM
ACTION:DISPLAY
TRIGGER;VALUE=DATE-TIME:20260526T193000Z
DESCRIPTION:Reminder for Charlie Puth: Whatever’s Clever! World Tour
END:VALARM
END:VEVENT
END:VCALENDAR