BEGIN:VCALENDAR
VERSION:2.0
PRODID:-//District Fray - Making Fun Possible //NONSGML Events //EN
CALSCALE:GREGORIAN
X-WR-CALNAME:District Fray - Making Fun Possible
BEGIN:VEVENT
CREATED:20260421T135436Z
UID:305253
DTEND;VALUE=DATE:20260528T193000Z
DTSTART;VALUE=DATE:20260528T193000Z
DTSTAMP:20260421T215624Z
LOCATION:
DESCRIPTION:
SUMMARY:John Mulaney: Mister Whatever
ORGANIZER:
URL;VALUE=URI:https://districtfray.com/event/john-mulaney-mister-whatever-3/
TRANSP:OPAQUE
BEGIN:VALARM
ACTION:DISPLAY
TRIGGER;VALUE=DATE-TIME:20260528T193000Z
DESCRIPTION:Reminder for John Mulaney: Mister Whatever
END:VALARM
END:VEVENT
END:VCALENDAR