BEGIN:VCALENDAR
VERSION:2.0
PRODID:-//District Fray - Making Fun Possible //NONSGML Events //EN
CALSCALE:GREGORIAN
X-WR-CALNAME:District Fray - Making Fun Possible
BEGIN:VEVENT
CREATED:20260421T135350Z
UID:305250
DTEND;VALUE=DATE:20260529T193000Z
DTSTART;VALUE=DATE:20260529T193000Z
DTSTAMP:20260421T214822Z
LOCATION:
DESCRIPTION:
SUMMARY:John Mulaney: Mister Whatever
ORGANIZER:
URL;VALUE=URI:https://districtfray.com/event/john-mulaney-mister-whatever-2/
TRANSP:OPAQUE
BEGIN:VALARM
ACTION:DISPLAY
TRIGGER;VALUE=DATE-TIME:20260529T193000Z
DESCRIPTION:Reminder for John Mulaney: Mister Whatever
END:VALARM
END:VEVENT
END:VCALENDAR