BEGIN:VCALENDAR
VERSION:2.0
PRODID:-//District Fray - Making Fun Possible //NONSGML Events //EN
CALSCALE:GREGORIAN
X-WR-CALNAME:District Fray - Making Fun Possible
BEGIN:VEVENT
CREATED:20260421T132713Z
UID:305227
DTEND;VALUE=DATE:20260423T100000Z
DTSTART;VALUE=DATE:20260423T100000Z
DTSTAMP:20260421T215412Z
LOCATION:
DESCRIPTION:
SUMMARY:Climate Career Development Day at DCCW
ORGANIZER:
URL;VALUE=URI:https://districtfray.com/event/climate-career-development-day-at-dccw/
TRANSP:OPAQUE
BEGIN:VALARM
ACTION:DISPLAY
TRIGGER;VALUE=DATE-TIME:20260423T100000Z
DESCRIPTION:Reminder for Climate Career Development Day at DCCW
END:VALARM
END:VEVENT
END:VCALENDAR