BEGIN:VCALENDAR
VERSION:2.0
PRODID:-//District Fray - Making Fun Possible //NONSGML Events //EN
CALSCALE:GREGORIAN
X-WR-CALNAME:District Fray - Making Fun Possible
BEGIN:VEVENT
CREATED:20260421T132541Z
UID:305224
DTEND;VALUE=DATE:20260422T160000Z
DTSTART;VALUE=DATE:20260422T160000Z
DTSTAMP:20260421T215510Z
LOCATION:
DESCRIPTION:
SUMMARY:Earth Day Happy Hour at Sycamore &amp; Oak
ORGANIZER:
URL;VALUE=URI:https://districtfray.com/event/earth-day-happy-hour-at-sycamore-oak/
TRANSP:OPAQUE
BEGIN:VALARM
ACTION:DISPLAY
TRIGGER;VALUE=DATE-TIME:20260422T160000Z
DESCRIPTION:Reminder for Earth Day Happy Hour at Sycamore &amp; Oak
END:VALARM
END:VEVENT
END:VCALENDAR