BEGIN:VCALENDAR
VERSION:2.0
PRODID:-//District Fray - Making Fun Possible //NONSGML Events //EN
CALSCALE:GREGORIAN
X-WR-CALNAME:District Fray - Making Fun Possible
BEGIN:VEVENT
CREATED:20260421T132414Z
UID:305221
DTEND;VALUE=DATE:20260421T093000Z
DTSTART;VALUE=DATE:20260421T093000Z
DTSTAMP:20260421T215048Z
LOCATION:
DESCRIPTION:
SUMMARY:DCCW Leadership Forum
ORGANIZER:
URL;VALUE=URI:https://districtfray.com/event/dccw-leadership-forum/
TRANSP:OPAQUE
BEGIN:VALARM
ACTION:DISPLAY
TRIGGER;VALUE=DATE-TIME:20260421T093000Z
DESCRIPTION:Reminder for DCCW Leadership Forum
END:VALARM
END:VEVENT
END:VCALENDAR