BEGIN:VCALENDAR
VERSION:2.0
PRODID:-//District Fray - Making Fun Possible //NONSGML Events //EN
CALSCALE:GREGORIAN
X-WR-CALNAME:District Fray - Making Fun Possible
BEGIN:VEVENT
CREATED:20260421T132146Z
UID:305218
DTEND;VALUE=DATE:20260510T100000Z
DTSTART;VALUE=DATE:20260510T100000Z
DTSTAMP:20260421T215721Z
LOCATION:
DESCRIPTION:
SUMMARY:Celebrate Mother’s Day at Bully Spanish Steakhouse
ORGANIZER:
URL;VALUE=URI:https://districtfray.com/event/celebrate-mothers-day-at-bully-spanish-steakhouse/
TRANSP:OPAQUE
BEGIN:VALARM
ACTION:DISPLAY
TRIGGER;VALUE=DATE-TIME:20260510T100000Z
DESCRIPTION:Reminder for Celebrate Mother’s Day at Bully Spanish Steakhouse
END:VALARM
END:VEVENT
END:VCALENDAR