BEGIN:VCALENDAR
VERSION:2.0
PRODID:-//District Fray - Making Fun Possible //NONSGML Events //EN
CALSCALE:GREGORIAN
X-WR-CALNAME:District Fray - Making Fun Possible
BEGIN:VEVENT
CREATED:20260421T131625Z
UID:305215
DTEND;VALUE=DATE:20260510T110000Z
DTSTART;VALUE=DATE:20260510T110000Z
DTSTAMP:20260421T220947Z
LOCATION:
DESCRIPTION:
SUMMARY:Bubbles, Bouquets &amp; Brunch: Celebrate Mom at The Sovereign
ORGANIZER:
URL;VALUE=URI:https://districtfray.com/event/bubbles-bouquets-brunch-celebrate-mom-at-the-sovereign/
TRANSP:OPAQUE
BEGIN:VALARM
ACTION:DISPLAY
TRIGGER;VALUE=DATE-TIME:20260510T110000Z
DESCRIPTION:Reminder for Bubbles\, Bouquets &amp; Brunch: Celebrate Mom at The Sovereign
END:VALARM
END:VEVENT
END:VCALENDAR