BEGIN:VCALENDAR
VERSION:2.0
PRODID:-//District Fray - Making Fun Possible //NONSGML Events //EN
CALSCALE:GREGORIAN
X-WR-CALNAME:District Fray - Making Fun Possible
BEGIN:VEVENT
CREATED:20260421T131259Z
UID:305212
DTEND;VALUE=DATE:20260510T110000Z
DTSTART;VALUE=DATE:20260510T110000Z
DTSTAMP:20260421T215510Z
LOCATION:
DESCRIPTION:
SUMMARY:Mother’s Day Brunch at Iron Gate
ORGANIZER:
URL;VALUE=URI:https://districtfray.com/event/mothers-day-brunch-at-iron-gate/
TRANSP:OPAQUE
BEGIN:VALARM
ACTION:DISPLAY
TRIGGER;VALUE=DATE-TIME:20260510T110000Z
DESCRIPTION:Reminder for Mother’s Day Brunch at Iron Gate
END:VALARM
END:VEVENT
END:VCALENDAR