BEGIN:VCALENDAR
VERSION:2.0
PRODID:-//District Fray - Making Fun Possible //NONSGML Events //EN
CALSCALE:GREGORIAN
X-WR-CALNAME:District Fray - Making Fun Possible
BEGIN:VEVENT
CREATED:20260421T131037Z
UID:305209
DTEND;VALUE=DATE:20260510T113000Z
DTSTART;VALUE=DATE:20260510T113000Z
DTSTAMP:20260421T221924Z
LOCATION:
DESCRIPTION:
SUMMARY:Mother’s Day at La Vie – A Waterfront Brunch Celebration to Remember
ORGANIZER:
URL;VALUE=URI:https://districtfray.com/event/mothers-day-at-la-vie-a-waterfront-brunch-celebration-to-remember/
TRANSP:OPAQUE
BEGIN:VALARM
ACTION:DISPLAY
TRIGGER;VALUE=DATE-TIME:20260510T113000Z
DESCRIPTION:Reminder for Mother’s Day at La Vie – A Waterfront Brunch Celebration to Remember
END:VALARM
END:VEVENT
END:VCALENDAR