BEGIN:VCALENDAR
VERSION:2.0
PRODID:-//District Fray - Making Fun Possible //NONSGML Events //EN
CALSCALE:GREGORIAN
X-WR-CALNAME:District Fray - Making Fun Possible
BEGIN:VEVENT
CREATED:20260421T130615Z
UID:305206
DTEND;VALUE=DATE:20260510T000000Z
DTSTART;VALUE=DATE:20260510T000000Z
DTSTAMP:20260421T215710Z
LOCATION:
DESCRIPTION:
SUMMARY:Brunch, the Acqua Bistecca Way: A New Weekend Ritual
ORGANIZER:
URL;VALUE=URI:https://districtfray.com/event/brunch-the-acqua-bistecca-way-a-new-weekend-ritual/
TRANSP:OPAQUE
BEGIN:VALARM
ACTION:DISPLAY
TRIGGER;VALUE=DATE-TIME:20260510T000000Z
DESCRIPTION:Reminder for Brunch\, the Acqua Bistecca Way: A New Weekend Ritual
END:VALARM
END:VEVENT
END:VCALENDAR