BEGIN:VCALENDAR
VERSION:2.0
PRODID:-//District Fray - Making Fun Possible //NONSGML Events //EN
CALSCALE:GREGORIAN
X-WR-CALNAME:District Fray - Making Fun Possible
BEGIN:VEVENT
CREATED:20260421T130220Z
UID:305203
DTEND;VALUE=DATE:20260516T110000Z
DTSTART;VALUE=DATE:20260516T110000Z
DTSTAMP:20260421T215849Z
LOCATION:
DESCRIPTION:
SUMMARY:LPF Greater Washington Open House
ORGANIZER:
URL;VALUE=URI:https://districtfray.com/event/lpf-greater-washington-open-house/
TRANSP:OPAQUE
BEGIN:VALARM
ACTION:DISPLAY
TRIGGER;VALUE=DATE-TIME:20260516T110000Z
DESCRIPTION:Reminder for LPF Greater Washington Open House
END:VALARM
END:VEVENT
END:VCALENDAR