BEGIN:VCALENDAR
VERSION:2.0
PRODID:-//District Fray - Making Fun Possible //NONSGML Events //EN
CALSCALE:GREGORIAN
X-WR-CALNAME:District Fray - Making Fun Possible
BEGIN:VEVENT
CREATED:20260418T174242Z
UID:305193
DTEND;VALUE=DATE:20260520T193000Z
DTSTART;VALUE=DATE:20260520T193000Z
DTSTAMP:20260421T064849Z
LOCATION:
DESCRIPTION:
SUMMARY:Bra &amp; Order: Civil Libertease | A Burlesque and Variety Fundraiser
ORGANIZER:
URL;VALUE=URI:https://districtfray.com/event/bra-order-civil-libertease-a-burlesque-and-variety-fundraiser/
TRANSP:OPAQUE
BEGIN:VALARM
ACTION:DISPLAY
TRIGGER;VALUE=DATE-TIME:20260520T193000Z
DESCRIPTION:Reminder for Bra &amp; Order: Civil Libertease | A Burlesque and Variety Fundraiser
END:VALARM
END:VEVENT
END:VCALENDAR