BEGIN:VCALENDAR
VERSION:2.0
PRODID:-//District Fray - Making Fun Possible //NONSGML Events //EN
CALSCALE:GREGORIAN
X-WR-CALNAME:District Fray - Making Fun Possible
BEGIN:VEVENT
CREATED:20260418T173913Z
UID:305190
DTEND;VALUE=DATE:20260510T130000Z
DTSTART;VALUE=DATE:20260510T130000Z
DTSTAMP:20260421T065904Z
LOCATION:
DESCRIPTION:
SUMMARY:Yolks on You! A Burlesque and Variety Brunch
ORGANIZER:
URL;VALUE=URI:https://districtfray.com/event/yolks-on-you-a-burlesque-and-variety-brunch-2/
TRANSP:OPAQUE
BEGIN:VALARM
ACTION:DISPLAY
TRIGGER;VALUE=DATE-TIME:20260510T130000Z
DESCRIPTION:Reminder for Yolks on You! A Burlesque and Variety Brunch
END:VALARM
END:VEVENT
END:VCALENDAR