BEGIN:VCALENDAR
VERSION:2.0
PRODID:-//District Fray - Making Fun Possible //NONSGML Events //EN
CALSCALE:GREGORIAN
X-WR-CALNAME:District Fray - Making Fun Possible
BEGIN:VEVENT
CREATED:20250318T235517Z
UID:299667
DTEND;VALUE=DATE:20250405T200000Z
DTSTART;VALUE=DATE:20250405T200000Z
DTSTAMP:20260423T123109Z
LOCATION:
DESCRIPTION:
SUMMARY:American Fast
ORGANIZER:
URL;VALUE=URI:https://districtfray.com/event/american-fast/
TRANSP:OPAQUE
BEGIN:VALARM
ACTION:DISPLAY
TRIGGER;VALUE=DATE-TIME:20250405T200000Z
DESCRIPTION:Reminder for American Fast
END:VALARM
END:VEVENT
END:VCALENDAR