BEGIN:VCALENDAR
VERSION:2.0
PRODID:-//District Fray - Making Fun Possible //NONSGML Events //EN
CALSCALE:GREGORIAN
X-WR-CALNAME:District Fray - Making Fun Possible
BEGIN:VEVENT
CREATED:20240924T214248Z
UID:297451
DTEND;VALUE=DATE:20241101T123000Z
DTSTART;VALUE=DATE:20241101T123000Z
DTSTAMP:20260419T191218Z
LOCATION:
DESCRIPTION:
SUMMARY:Peabody Graduate Jazz Ensemble
ORGANIZER:
URL;VALUE=URI:https://districtfray.com/event/peabody-graduate-jazz-ensemble/
TRANSP:OPAQUE
BEGIN:VALARM
ACTION:DISPLAY
TRIGGER;VALUE=DATE-TIME:20241101T123000Z
DESCRIPTION:Reminder for Peabody Graduate Jazz Ensemble
END:VALARM
END:VEVENT
END:VCALENDAR