BEGIN:VCALENDAR
VERSION:2.0
PRODID:-//District Fray - Making Fun Possible //NONSGML Events //EN
CALSCALE:GREGORIAN
X-WR-CALNAME:District Fray - Making Fun Possible
BEGIN:VEVENT
CREATED:20240924T213850Z
UID:297448
DTEND;VALUE=DATE:20241022T120000Z
DTSTART;VALUE=DATE:20241022T120000Z
DTSTAMP:20260425T183714Z
LOCATION:
DESCRIPTION:
SUMMARY:Music and Democracy
ORGANIZER:
URL;VALUE=URI:https://districtfray.com/event/music-and-democracy/
TRANSP:OPAQUE
BEGIN:VALARM
ACTION:DISPLAY
TRIGGER;VALUE=DATE-TIME:20241022T120000Z
DESCRIPTION:Reminder for Music and Democracy
END:VALARM
END:VEVENT
END:VCALENDAR