BEGIN:VCALENDAR
VERSION:2.0
PRODID:-//District Fray - Making Fun Possible //NONSGML Events //EN
CALSCALE:GREGORIAN
X-WR-CALNAME:District Fray - Making Fun Possible
BEGIN:VEVENT
CREATED:20231201T033339Z
UID:289672
DTEND;VALUE=DATE:20231231T190000Z
DTSTART;VALUE=DATE:20231231T190000Z
DTSTAMP:20260420T085958Z
LOCATION:
DESCRIPTION:
SUMMARY:Decades of Decadence Red Derby NYE Party
ORGANIZER:
URL;VALUE=URI:https://districtfray.com/event/decades-of-decadance-red-derby-nye-party/
TRANSP:OPAQUE
BEGIN:VALARM
ACTION:DISPLAY
TRIGGER;VALUE=DATE-TIME:20231231T190000Z
DESCRIPTION:Reminder for Decades of Decadence Red Derby NYE Party
END:VALARM
END:VEVENT
END:VCALENDAR