BEGIN:VCALENDAR
VERSION:2.0
PRODID:-//District Fray - Making Fun Possible //NONSGML Events //EN
CALSCALE:GREGORIAN
X-WR-CALNAME:District Fray - Making Fun Possible
BEGIN:VEVENT
CREATED:20230519T164333Z
UID:270952
DTEND;VALUE=DATE:20230527T210000Z
DTSTART;VALUE=DATE:20230527T210000Z
DTSTAMP:20260421T182551Z
LOCATION:
DESCRIPTION:
SUMMARY:The “Work Sucks” Comedy Show
ORGANIZER:
URL;VALUE=URI:https://districtfray.com/event/the-work-sucks-comedy-show-2/
TRANSP:OPAQUE
BEGIN:VALARM
ACTION:DISPLAY
TRIGGER;VALUE=DATE-TIME:20230527T210000Z
DESCRIPTION:Reminder for The “Work Sucks” Comedy Show
END:VALARM
END:VEVENT
END:VCALENDAR