BEGIN:VCALENDAR
VERSION:2.0
PRODID:-//District Fray - Making Fun Possible //NONSGML Events //EN
CALSCALE:GREGORIAN
X-WR-CALNAME:District Fray - Making Fun Possible
BEGIN:VEVENT
CREATED:20230427T183448Z
UID:268922
DTEND;VALUE=DATE:20230527T120000Z
DTSTART;VALUE=DATE:20230527T120000Z
DTSTAMP:20260421T183251Z
LOCATION:
DESCRIPTION:
SUMMARY:AANHPI Heritage Month Pop-Up Market
ORGANIZER:
URL;VALUE=URI:https://districtfray.com/event/aanhpi-heritage-month-pop-up-market/
TRANSP:OPAQUE
BEGIN:VALARM
ACTION:DISPLAY
TRIGGER;VALUE=DATE-TIME:20230527T120000Z
DESCRIPTION:Reminder for AANHPI Heritage Month Pop-Up Market
END:VALARM
END:VEVENT
END:VCALENDAR