BEGIN:VCALENDAR
VERSION:2.0
PRODID:-//District Fray - Making Fun Possible //NONSGML Events //EN
CALSCALE:GREGORIAN
X-WR-CALNAME:District Fray - Making Fun Possible
BEGIN:VEVENT
CREATED:20230418T151900Z
UID:268042
DTEND;VALUE=DATE:20230607T190000Z
DTSTART;VALUE=DATE:20230607T190000Z
DTSTAMP:20260424T212554Z
LOCATION:
DESCRIPTION:
SUMMARY:Mars Arts D.C. Free Concert Series: The Jogo Project
ORGANIZER:
URL;VALUE=URI:https://districtfray.com/event/mars-arts-d-c-free-concert-series-the-jogo-project/
TRANSP:OPAQUE
BEGIN:VALARM
ACTION:DISPLAY
TRIGGER;VALUE=DATE-TIME:20230607T190000Z
DESCRIPTION:Reminder for Mars Arts D.C. Free Concert Series: The Jogo Project
END:VALARM
END:VEVENT
END:VCALENDAR