BEGIN:VCALENDAR
VERSION:2.0
PRODID:-//District Fray - Making Fun Possible //NONSGML Events //EN
CALSCALE:GREGORIAN
X-WR-CALNAME:District Fray - Making Fun Possible
BEGIN:VEVENT
CREATED:20230414T150415Z
UID:267873
DTEND;VALUE=DATE:20230422T210000Z
DTSTART;VALUE=DATE:20230422T210000Z
DTSTAMP:20260423T235900Z
LOCATION:
DESCRIPTION:
SUMMARY:Melodic &amp; Tribal House/Afrobeats at WHINO
ORGANIZER:
URL;VALUE=URI:https://districtfray.com/event/melodic-tribal-house-afrobeats-at-whino/
TRANSP:OPAQUE
BEGIN:VALARM
ACTION:DISPLAY
TRIGGER;VALUE=DATE-TIME:20230422T210000Z
DESCRIPTION:Reminder for Melodic &amp; Tribal House/Afrobeats at WHINO
END:VALARM
END:VEVENT
END:VCALENDAR