BEGIN:VCALENDAR
VERSION:2.0
PRODID:-//District Fray - Making Fun Possible //NONSGML Events //EN
CALSCALE:GREGORIAN
X-WR-CALNAME:District Fray - Making Fun Possible
BEGIN:VEVENT
CREATED:20230329T194840Z
UID:266050
DTEND;VALUE=DATE:20230527T200000Z
DTSTART;VALUE=DATE:20230527T200000Z
DTSTAMP:20260420T090231Z
LOCATION:
DESCRIPTION:
SUMMARY:Strutman Lane Live at Union Stage
ORGANIZER:
URL;VALUE=URI:https://districtfray.com/event/strutman-lane-live-at-union-stage/
TRANSP:OPAQUE
BEGIN:VALARM
ACTION:DISPLAY
TRIGGER;VALUE=DATE-TIME:20230527T200000Z
DESCRIPTION:Reminder for Strutman Lane Live at Union Stage
END:VALARM
END:VEVENT
END:VCALENDAR