BEGIN:VCALENDAR
VERSION:2.0
PRODID:-//District Fray - Making Fun Possible //NONSGML Events //EN
CALSCALE:GREGORIAN
X-WR-CALNAME:District Fray - Making Fun Possible
BEGIN:VEVENT
CREATED:20230324T201421Z
UID:265584
DTEND;VALUE=DATE:20230507T110000Z
DTSTART;VALUE=DATE:20230507T110000Z
DTSTAMP:20260423T105747Z
LOCATION:
DESCRIPTION:
SUMMARY:Makers Market
ORGANIZER:
URL;VALUE=URI:https://districtfray.com/event/makers-market/
TRANSP:OPAQUE
BEGIN:VALARM
ACTION:DISPLAY
TRIGGER;VALUE=DATE-TIME:20230507T110000Z
DESCRIPTION:Reminder for Makers Market
END:VALARM
END:VEVENT
END:VCALENDAR