BEGIN:VCALENDAR
VERSION:2.0
PRODID:-//District Fray - Making Fun Possible //NONSGML Events //EN
CALSCALE:GREGORIAN
X-WR-CALNAME:District Fray - Making Fun Possible
BEGIN:VEVENT
CREATED:20230323T154604Z
UID:265441
DTEND;VALUE=DATE:20230506T160000Z
DTSTART;VALUE=DATE:20230506T160000Z
DTSTAMP:20260420T085851Z
LOCATION:
DESCRIPTION:
SUMMARY:Mourning Stutter
ORGANIZER:
URL;VALUE=URI:https://districtfray.com/event/mourning-stutter/
TRANSP:OPAQUE
BEGIN:VALARM
ACTION:DISPLAY
TRIGGER;VALUE=DATE-TIME:20230506T160000Z
DESCRIPTION:Reminder for Mourning Stutter
END:VALARM
END:VEVENT
END:VCALENDAR