BEGIN:VCALENDAR
VERSION:2.0
PRODID:-//District Fray - Making Fun Possible //NONSGML Events //EN
CALSCALE:GREGORIAN
X-WR-CALNAME:District Fray - Making Fun Possible
BEGIN:VEVENT
CREATED:20230307T160009Z
UID:263811
DTEND;VALUE=DATE:20230324T193000Z
DTSTART;VALUE=DATE:20230324T193000Z
DTSTAMP:20260421T225447Z
LOCATION:
DESCRIPTION:
SUMMARY:The Set R&amp;B-Sides: Who Runs the World?!
ORGANIZER:
URL;VALUE=URI:https://districtfray.com/event/the-set-rb-sides-who-runs-the-world/
TRANSP:OPAQUE
BEGIN:VALARM
ACTION:DISPLAY
TRIGGER;VALUE=DATE-TIME:20230324T193000Z
DESCRIPTION:Reminder for The Set R&amp;B-Sides: Who Runs the World?!
END:VALARM
END:VEVENT
END:VCALENDAR