BEGIN:VCALENDAR
VERSION:2.0
PRODID:-//District Fray - Making Fun Possible //NONSGML Events //EN
CALSCALE:GREGORIAN
X-WR-CALNAME:District Fray - Making Fun Possible
BEGIN:VEVENT
CREATED:20230112T201708Z
UID:259711
DTEND;VALUE=DATE:20230214T190000Z
DTSTART;VALUE=DATE:20230214T190000Z
DTSTAMP:20260420T090426Z
LOCATION:
DESCRIPTION:
SUMMARY:Broadway Star Jessica Vosk at Sixth &amp; I
ORGANIZER:
URL;VALUE=URI:https://districtfray.com/event/broadway-star-jessica-vosk-at-sixth-i/
TRANSP:OPAQUE
BEGIN:VALARM
ACTION:DISPLAY
TRIGGER;VALUE=DATE-TIME:20230214T190000Z
DESCRIPTION:Reminder for Broadway Star Jessica Vosk at Sixth &amp; I
END:VALARM
END:VEVENT
END:VCALENDAR