BEGIN:VCALENDAR
VERSION:2.0
PRODID:-//District Fray - Making Fun Possible //NONSGML Events //EN
CALSCALE:GREGORIAN
X-WR-CALNAME:District Fray - Making Fun Possible
BEGIN:VEVENT
CREATED:20221208T162130Z
UID:258003
DTEND;VALUE=DATE:20221231T220000Z
DTSTART;VALUE=DATE:20221231T220000Z
DTSTAMP:20260424T183242Z
LOCATION:
DESCRIPTION:
SUMMARY:A Night to Remember: New Year’s Eve Prom
ORGANIZER:
URL;VALUE=URI:https://districtfray.com/event/a-night-to-remember-new-years-eve-prom/
TRANSP:OPAQUE
BEGIN:VALARM
ACTION:DISPLAY
TRIGGER;VALUE=DATE-TIME:20221231T220000Z
DESCRIPTION:Reminder for A Night to Remember: New Year’s Eve Prom
END:VALARM
END:VEVENT
END:VCALENDAR