BEGIN:VCALENDAR
VERSION:2.0
PRODID:-//District Fray - Making Fun Possible //NONSGML Events //EN
CALSCALE:GREGORIAN
X-WR-CALNAME:District Fray - Making Fun Possible
BEGIN:VEVENT
CREATED:20221110T145642Z
UID:255744
DTEND;VALUE=DATE:20221124T080000Z
DTSTART;VALUE=DATE:20221124T080000Z
DTSTAMP:20260420T090256Z
LOCATION:
DESCRIPTION:
SUMMARY:Stick a Fork in Hunger on Thanksgiving Day with SOME
ORGANIZER:
URL;VALUE=URI:https://districtfray.com/event/stick-a-fork-in-hunger-on-thanksgiving-day-with-some/
TRANSP:OPAQUE
BEGIN:VALARM
ACTION:DISPLAY
TRIGGER;VALUE=DATE-TIME:20221124T080000Z
DESCRIPTION:Reminder for Stick a Fork in Hunger on Thanksgiving Day with SOME
END:VALARM
END:VEVENT
END:VCALENDAR