BEGIN:VCALENDAR
VERSION:2.0
PRODID:-//District Fray - Making Fun Possible //NONSGML Events //EN
CALSCALE:GREGORIAN
X-WR-CALNAME:District Fray - Making Fun Possible
BEGIN:VEVENT
CREATED:20221109T191942Z
UID:255699
DTEND;VALUE=DATE:20221219T170000Z
DTSTART;VALUE=DATE:20221219T170000Z
DTSTAMP:20260424T183359Z
LOCATION:
DESCRIPTION:
SUMMARY:2022 Garden of Lights
ORGANIZER:
URL;VALUE=URI:https://districtfray.com/event/2022-garden-of-lights/
TRANSP:OPAQUE
BEGIN:VALARM
ACTION:DISPLAY
TRIGGER;VALUE=DATE-TIME:20221219T170000Z
DESCRIPTION:Reminder for 2022 Garden of Lights
END:VALARM
END:VEVENT
END:VCALENDAR