BEGIN:VCALENDAR
VERSION:2.0
PRODID:-//District Fray - Making Fun Possible //NONSGML Events //EN
CALSCALE:GREGORIAN
X-WR-CALNAME:District Fray - Making Fun Possible
BEGIN:VEVENT
CREATED:20221109T191626Z
UID:255696
DTEND;VALUE=DATE:20221218T170000Z
DTSTART;VALUE=DATE:20221218T170000Z
DTSTAMP:20260424T183012Z
LOCATION:
DESCRIPTION:
SUMMARY:Lighting of National Menorah
ORGANIZER:
URL;VALUE=URI:https://districtfray.com/event/lighting-of-national-menorah/
TRANSP:OPAQUE
BEGIN:VALARM
ACTION:DISPLAY
TRIGGER;VALUE=DATE-TIME:20221218T170000Z
DESCRIPTION:Reminder for Lighting of National Menorah
END:VALARM
END:VEVENT
END:VCALENDAR