BEGIN:VCALENDAR
VERSION:2.0
PRODID:-//District Fray - Making Fun Possible //NONSGML Events //EN
CALSCALE:GREGORIAN
X-WR-CALNAME:District Fray - Making Fun Possible
BEGIN:VEVENT
CREATED:20221109T191330Z
UID:255691
DTEND;VALUE=DATE:20221216T173000Z
DTSTART;VALUE=DATE:20221216T173000Z
DTSTAMP:20260424T182132Z
LOCATION:
DESCRIPTION:
SUMMARY:CHRISTMAS ILLUMINATIONS
ORGANIZER:
URL;VALUE=URI:https://districtfray.com/event/christmas-illuminations/
TRANSP:OPAQUE
BEGIN:VALARM
ACTION:DISPLAY
TRIGGER;VALUE=DATE-TIME:20221216T173000Z
DESCRIPTION:Reminder for CHRISTMAS ILLUMINATIONS
END:VALARM
END:VEVENT
END:VCALENDAR