BEGIN:VCALENDAR
VERSION:2.0
PRODID:-//District Fray - Making Fun Possible //NONSGML Events //EN
CALSCALE:GREGORIAN
X-WR-CALNAME:District Fray - Making Fun Possible
BEGIN:VEVENT
CREATED:20221109T190336Z
UID:255683
DTEND;VALUE=DATE:20230101T170000Z
DTSTART;VALUE=DATE:20230101T170000Z
DTSTAMP:20260424T182100Z
LOCATION:
DESCRIPTION:
SUMMARY:Enchant
ORGANIZER:
URL;VALUE=URI:https://districtfray.com/event/enchant-2/
TRANSP:OPAQUE
BEGIN:VALARM
ACTION:DISPLAY
TRIGGER;VALUE=DATE-TIME:20230101T170000Z
DESCRIPTION:Reminder for Enchant
END:VALARM
END:VEVENT
END:VCALENDAR