BEGIN:VCALENDAR
VERSION:2.0
PRODID:-//District Fray - Making Fun Possible //NONSGML Events //EN
CALSCALE:GREGORIAN
X-WR-CALNAME:District Fray - Making Fun Possible
BEGIN:VEVENT
CREATED:20221109T185920Z
UID:255674
DTEND;VALUE=DATE:20221125T170000Z
DTSTART;VALUE=DATE:20221125T170000Z
DTSTAMP:20260424T182106Z
LOCATION:
DESCRIPTION:
SUMMARY:Zoo Lights
ORGANIZER:
URL;VALUE=URI:https://districtfray.com/event/zoo-lights/
TRANSP:OPAQUE
BEGIN:VALARM
ACTION:DISPLAY
TRIGGER;VALUE=DATE-TIME:20221125T170000Z
DESCRIPTION:Reminder for Zoo Lights
END:VALARM
END:VEVENT
END:VCALENDAR