BEGIN:VCALENDAR
VERSION:2.0
PRODID:-//District Fray - Making Fun Possible //NONSGML Events //EN
CALSCALE:GREGORIAN
X-WR-CALNAME:District Fray - Making Fun Possible
BEGIN:VEVENT
CREATED:20221108T153453Z
UID:255544
DTEND;VALUE=DATE:20221124T110000Z
DTSTART;VALUE=DATE:20221124T110000Z
DTSTAMP:20260420T090230Z
LOCATION:
DESCRIPTION:
SUMMARY:Salamander DC Salamander Resort &amp; Spa Thanksgiving
ORGANIZER:
URL;VALUE=URI:https://districtfray.com/event/salamander-dc-salamander-resort-spa-thanksgiving/
TRANSP:OPAQUE
BEGIN:VALARM
ACTION:DISPLAY
TRIGGER;VALUE=DATE-TIME:20221124T110000Z
DESCRIPTION:Reminder for Salamander DC Salamander Resort &amp; Spa Thanksgiving
END:VALARM
END:VEVENT
END:VCALENDAR