BEGIN:VCALENDAR
VERSION:2.0
PRODID:-//District Fray - Making Fun Possible //NONSGML Events //EN
CALSCALE:GREGORIAN
X-WR-CALNAME:District Fray - Making Fun Possible
BEGIN:VEVENT
CREATED:20220928T143716Z
UID:138745
DTEND;VALUE=DATE:20221111T200000Z
DTSTART;VALUE=DATE:20221111T200000Z
DTSTAMP:20260420T085958Z
LOCATION:
DESCRIPTION:
SUMMARY:SHADES OF DJANGO
ORGANIZER:
URL;VALUE=URI:https://districtfray.com/event/shades-of-django/
TRANSP:OPAQUE
BEGIN:VALARM
ACTION:DISPLAY
TRIGGER;VALUE=DATE-TIME:20221111T200000Z
DESCRIPTION:Reminder for SHADES OF DJANGO
END:VALARM
END:VEVENT
END:VCALENDAR