BEGIN:VCALENDAR
VERSION:2.0
PRODID:-//District Fray - Making Fun Possible //NONSGML Events //EN
CALSCALE:GREGORIAN
X-WR-CALNAME:District Fray - Making Fun Possible
BEGIN:VEVENT
CREATED:20220912T153435Z
UID:137825
DTEND;VALUE=DATE:20221011T180000Z
DTSTART;VALUE=DATE:20221011T180000Z
DTSTAMP:20260420T093224Z
LOCATION:
DESCRIPTION:
SUMMARY:Fall Single’s Series: Speed Dating
ORGANIZER:
URL;VALUE=URI:https://districtfray.com/event/fall-singles-series-speed-dating/
TRANSP:OPAQUE
BEGIN:VALARM
ACTION:DISPLAY
TRIGGER;VALUE=DATE-TIME:20221011T180000Z
DESCRIPTION:Reminder for Fall Single’s Series: Speed Dating
END:VALARM
END:VEVENT
END:VCALENDAR