BEGIN:VCALENDAR
VERSION:2.0
PRODID:-//District Fray - Making Fun Possible //NONSGML Events //EN
CALSCALE:GREGORIAN
X-WR-CALNAME:District Fray - Making Fun Possible
BEGIN:VEVENT
CREATED:20220713T172843Z
UID:133142
DTEND;VALUE=DATE:20220809T190000Z
DTSTART;VALUE=DATE:20220809T190000Z
DTSTAMP:20260420T085901Z
LOCATION:
DESCRIPTION:
SUMMARY:Off with Their Heads at Songbyrd
ORGANIZER:
URL;VALUE=URI:https://districtfray.com/event/off-with-their-heads-at-songbyrd/
TRANSP:OPAQUE
BEGIN:VALARM
ACTION:DISPLAY
TRIGGER;VALUE=DATE-TIME:20220809T190000Z
DESCRIPTION:Reminder for Off with Their Heads at Songbyrd
END:VALARM
END:VEVENT
END:VCALENDAR